BEGIN:VCALENDAR
VERSION:2.0
PRODID:-//ChamberMaster//Event Calendar 2.0//EN
METHOD:PUBLISH
X-PUBLISHED-TTL:P3D
REFRESH-INTERVAL:P3D
CALSCALE:GREGORIAN
BEGIN:VEVENT
DTSTART:20230523T203000Z
DTEND:20230523T220000Z
X-MICROSOFT-CDO-ALLDAYEVENT:FALSE
SUMMARY:Speed Networking
DESCRIPTION:Speed Networking has quickly become a preferred event for building meaningful connections with area businesses. Establishing professional connections is extremely important for people wishing to grow their business in today's world. This is a great way to exchange contact information and set up future meetings with area professionals! \n\n\n\nWith the completion of our semi-annual membership drive recently wrapping up\, we invite new members and long-time members alike to join us for this free event. Sponsors will have booths setup where you can learn more about their businesses and there will be a dedicated time for speed networking.\n\n\n\nWhat to Expect: Members will be asked to take a seat at the beginning of the speed networking portion of the evening. They will rotate around the table\, meeting other members for a quick one-on-one to exchange business cards and briefly introduce themselves and their business. Following the structured networking\, members will be encouraged to continue visiting with sponsors and the new folks they just met. \n\n\n\nDon't forget your business cards!\n\n\n\nWant to feature your business at a booth during the event? Sign up here!
X-ALT-DESC;FMTTYPE=text/html:Speed Networking has quickly become a preferred event for building meaningful connections with area businesses. Establishing professional connections is extremely important for people wishing to grow their business in today&#39\;s world. This is a great way to exchange contact information and set up future meetings with area professionals!&nbsp\;<br />\n<br />\nWith the completion of our semi-annual membership drive recently wrapping up\, we invite new members and long-time members alike to join us for this free event. Sponsors will have booths setup where you can learn more about their businesses and there will be a dedicated time for speed networking.<br />\n<br />\n<strong>What to Expect:</strong> Members will be asked to take a seat at the beginning of the speed networking portion of the evening. They will rotate around the table\, meeting other members for a quick one-on-one to exchange business cards and briefly introduce themselves and their business. Following the structured networking\, members will be encouraged to continue visiting with sponsors and the new folks they just met.&nbsp\;<br />\n<br />\n<em>Don&#39\;t forget your business cards!</em><br />\n<br />\nWant to feature your business at a booth during the event? <a href="https://capechamber.chambermaster.com/events/details/sponsors-speed-networking-9566" target="_blank"><span style="color:#38b449\;">Sign up here</span></a>!<br />\n<br />\n<br />\n&nbsp\;
LOCATION:Rosati's Pizza
UID:e.1421.9563
SEQUENCE:3
DTSTAMP:20260426T014420Z
URL:http://capechamber.chambermaster.com/events/details/speed-networking-9563
END:VEVENT

END:VCALENDAR
